BEGIN:VCALENDAR
VERSION:2.0
PRODID:-//Charitable Gift Planners of Austin - ECPv6.15.20//NONSGML v1.0//EN
CALSCALE:GREGORIAN
METHOD:PUBLISH
X-ORIGINAL-URL:https://cgpaustin.org
X-WR-CALDESC:Events for Charitable Gift Planners of Austin
REFRESH-INTERVAL;VALUE=DURATION:PT1H
X-Robots-Tag:noindex
X-PUBLISHED-TTL:PT1H
BEGIN:VTIMEZONE
TZID:America/Detroit
BEGIN:DAYLIGHT
TZOFFSETFROM:-0500
TZOFFSETTO:-0400
TZNAME:EDT
DTSTART:20180311T070000
END:DAYLIGHT
BEGIN:STANDARD
TZOFFSETFROM:-0400
TZOFFSETTO:-0500
TZNAME:EST
DTSTART:20181104T060000
END:STANDARD
BEGIN:DAYLIGHT
TZOFFSETFROM:-0500
TZOFFSETTO:-0400
TZNAME:EDT
DTSTART:20190310T070000
END:DAYLIGHT
BEGIN:STANDARD
TZOFFSETFROM:-0400
TZOFFSETTO:-0500
TZNAME:EST
DTSTART:20191103T060000
END:STANDARD
BEGIN:DAYLIGHT
TZOFFSETFROM:-0500
TZOFFSETTO:-0400
TZNAME:EDT
DTSTART:20200308T070000
END:DAYLIGHT
BEGIN:STANDARD
TZOFFSETFROM:-0400
TZOFFSETTO:-0500
TZNAME:EST
DTSTART:20201101T060000
END:STANDARD
END:VTIMEZONE
BEGIN:VEVENT
DTSTART;TZID=America/Detroit:20190211T113000
DTEND;TZID=America/Detroit:20190211T130000
DTSTAMP:20260425T214721
CREATED:20190110T181117Z
LAST-MODIFIED:20190116T174623Z
UID:1987-1549884600-1549890000@cgpaustin.org
SUMMARY:Ask the Experts: Best Practices in Gift Planning and Philanthropy
DESCRIPTION:This panel will provide insight on the best practices\, as well as traps to avoid\, in philanthropic planning\, directly from three of the most accomplished gift planners and advisors in Central Texas. Their experience ranges from higher education\, health care fundraising\, non-profit management\, trust administration\, and financial planning\, the panel’s expertise covers a multitude of topics. Their expertise will provide much-needed insight on potential pitfalls and helpful tips for philanthropic planning. Submit your questions in advance\, and bring your pressing concerns to the table for an  in-depth discussion by the experts. \nPANEL: April Hampton-Perez\, Cass Grange\, Charley Scarborough \nMODERATOR: Marcia Inger Navrátil \nRSVP For the Luncheon \n  \n  \n\n\n                \n                        URLThis field is for validation purposes and should be left unchanged.Do you have any questions about the event? Just fill out the form below!Your Name*Email*\n                            \n                        Question 1Question 2Question 3Do you have any additional questions?\n			\n				\n				No\n			\n			\n				\n				Yes\n			Question 4Question 5Question 6
URL:https://cgpaustin.org/event/ask-the-experts-best-practices-in-gift-planning-and-philanthropy/
LOCATION:Truluck’s\, 400 Colorado St.\, Austin\, TX\, 78701\, United States
CATEGORIES:2019 Monthly Luncheons
ATTACH;FMTTYPE=image/png:https://cgpaustin.org/wp-content/uploads/2017/12/CGPAustin-Vert.png
END:VEVENT
END:VCALENDAR