BEGIN:VCALENDAR
VERSION:2.0
PRODID:-//Charitable Gift Planners of Austin - ECPv6.15.20//NONSGML v1.0//EN
CALSCALE:GREGORIAN
METHOD:PUBLISH
X-WR-CALNAME:Charitable Gift Planners of Austin
X-ORIGINAL-URL:https://cgpaustin.org
X-WR-CALDESC:Events for Charitable Gift Planners of Austin
REFRESH-INTERVAL;VALUE=DURATION:PT1H
X-Robots-Tag:noindex
X-PUBLISHED-TTL:PT1H
BEGIN:VTIMEZONE
TZID:America/Detroit
BEGIN:DAYLIGHT
TZOFFSETFROM:-0500
TZOFFSETTO:-0400
TZNAME:EDT
DTSTART:20180311T070000
END:DAYLIGHT
BEGIN:STANDARD
TZOFFSETFROM:-0400
TZOFFSETTO:-0500
TZNAME:EST
DTSTART:20181104T060000
END:STANDARD
BEGIN:DAYLIGHT
TZOFFSETFROM:-0500
TZOFFSETTO:-0400
TZNAME:EDT
DTSTART:20190310T070000
END:DAYLIGHT
BEGIN:STANDARD
TZOFFSETFROM:-0400
TZOFFSETTO:-0500
TZNAME:EST
DTSTART:20191103T060000
END:STANDARD
BEGIN:DAYLIGHT
TZOFFSETFROM:-0500
TZOFFSETTO:-0400
TZNAME:EDT
DTSTART:20200308T070000
END:DAYLIGHT
BEGIN:STANDARD
TZOFFSETFROM:-0400
TZOFFSETTO:-0500
TZNAME:EST
DTSTART:20201101T060000
END:STANDARD
END:VTIMEZONE
BEGIN:VEVENT
DTSTART;TZID=America/Detroit:20190408T113000
DTEND;TZID=America/Detroit:20190408T130000
DTSTAMP:20260425T190350
CREATED:20190110T181536Z
LAST-MODIFIED:20190320T165731Z
UID:1989-1554723000-1554728400@cgpaustin.org
SUMMARY:To Infinity and Beyond: Drafting Gift Agreements that Will Stand the Test of Time
DESCRIPTION:A well-drafted gift agreement doesn’t just address the circumstances when a donor makes a gift – it also takes into account the donor’s long-term intent\, the current and future needs of the institution\, and the relevant legal standards that govern institutional management of gift funds. This presentation will cover all of the essential elements of a comprehensive gift agreement\, one that an organization can effectively implement during the donor’s lifetime\, when circumstances change so that implementation becomes impractical\, and when the donor is no longer available to consult or consent to changes. Real-life examples will highlight best practices and the unfortunate consequences when a gift agreement is poorly written or missing essential information. \nRSVP for this luncheon \nMarcia Inger Navrátil \nDirector of Gift Planning Services\nUniversity of Texas System \nMarcia is the Director of Gift Planning Services for University of Texas System. In this role\, Marcia collaborates with and advises advancement and development colleagues across the UT System campuses in their work with donors and professional advisors on planned and complex gifts. \nPrior to joining UT System\, was on the Gift and Estate Planning team at The University of Texas at Austin\, where she served as Director of Gift Planning from 2009-2014\, and Interim Executive Director from 2014-2015. At UT Austin\, Marcia worked with donors and their professional advisors to develop charitable gifts that met the donor’s philanthropic\, personal\, and financial goals\, as well as requiring some measure of tax\, legal\, or financial planning. Her work included charitable gift and tax issues related to estates\, trusts\, life income gifts such as charitable gift annuities and charitable remainder trusts\, real estate\, oil\, gas\, and mineral interests\, closely held companies\, and other complex gift arrangements. Marcia also advised and served UT Austin’s colleges\, schools\, and non-academic units on issues related to charitable gift planning. \nPrior to her work in Gift Planning\, Marcia served as the Chief Development Officer for the Texas Advanced Computing Center at UT Austin\, and as an Assistant Director of Development at the University of Virginia. She also worked as an associate with the law firm of Morgan\, Lewis\, and Bockius in Philadelphia. Marcia earned both her law degree and her bachelor’s degree in Art History from the University of Virginia. \nRSVP for this luncheon
URL:https://cgpaustin.org/event/feb-gift-agreements/
LOCATION:Truluck’s\, 400 Colorado St.\, Austin\, TX\, 78701\, United States
CATEGORIES:2019 Monthly Luncheons
ATTACH;FMTTYPE=image/jpeg:https://cgpaustin.org/wp-content/uploads/2017/03/MarciaNavrtil.jpg
END:VEVENT
END:VCALENDAR