BEGIN:VCALENDAR
VERSION:2.0
PRODID:-//Charitable Gift Planners of Austin - ECPv6.15.20//NONSGML v1.0//EN
CALSCALE:GREGORIAN
METHOD:PUBLISH
X-WR-CALNAME:Charitable Gift Planners of Austin
X-ORIGINAL-URL:https://cgpaustin.org
X-WR-CALDESC:Events for Charitable Gift Planners of Austin
REFRESH-INTERVAL;VALUE=DURATION:PT1H
X-Robots-Tag:noindex
X-PUBLISHED-TTL:PT1H
BEGIN:VTIMEZONE
TZID:America/Detroit
BEGIN:DAYLIGHT
TZOFFSETFROM:-0500
TZOFFSETTO:-0400
TZNAME:EDT
DTSTART:20190310T070000
END:DAYLIGHT
BEGIN:STANDARD
TZOFFSETFROM:-0400
TZOFFSETTO:-0500
TZNAME:EST
DTSTART:20191103T060000
END:STANDARD
BEGIN:DAYLIGHT
TZOFFSETFROM:-0500
TZOFFSETTO:-0400
TZNAME:EDT
DTSTART:20200308T070000
END:DAYLIGHT
BEGIN:STANDARD
TZOFFSETFROM:-0400
TZOFFSETTO:-0500
TZNAME:EST
DTSTART:20201101T060000
END:STANDARD
BEGIN:DAYLIGHT
TZOFFSETFROM:-0500
TZOFFSETTO:-0400
TZNAME:EDT
DTSTART:20210314T070000
END:DAYLIGHT
BEGIN:STANDARD
TZOFFSETFROM:-0400
TZOFFSETTO:-0500
TZNAME:EST
DTSTART:20211107T060000
END:STANDARD
END:VTIMEZONE
BEGIN:VEVENT
DTSTART;TZID=America/Detroit:20200203T113000
DTEND;TZID=America/Detroit:20200203T130000
DTSTAMP:20260425T053720
CREATED:20200117T203642Z
LAST-MODIFIED:20200121T155035Z
UID:6394-1580729400-1580734800@cgpaustin.org
SUMMARY:Leaving a Legacy: A New Look at Planned Giving Donors
DESCRIPTION:Description\nThis presentation will focus on findings received from Giving USA’s Special Report\, “Leaving a Legacy: A New Look at Planned Giving Donors.” Sarah chaired the Giving USA Foundation’s committee responsible for publishing the report and will highlight and discuss findings around: \n\nWho is most likely to make a planned giving and their motivations\nThe importance of building lifelong\, personal relationships with current and future donors\nThe benefit of receiving planned gifts of all sizes and how to engage different types of donors\n\nSarah will also highlight analytics Marts & Lundy uses to segment prospect populations and forecast opportunity in the context of planned giving and the “Leaving a Legacy” report. \nSpeaker\nSarah W. Williams \nSarah joined Marts & Lundy in 2002. She has extensive experience in research and analysis and leads a team of analysts who develop solutions that evolve to meet the changing philanthropy landscape. Sarah served on Marts & Lundy’s Board from 2009-2012 and is a member of the Leadership Team. Sarah is a Fundraising Operations Task Force Member and Adjunct Instructor at Rice University’s Center for Philanthropy and Nonprofit Leadership. In addition\, she serves on the Giving USA Foundation board. \nRSVP for this luncheon
URL:https://cgpaustin.org/event/leaving-a-legacy-a-new-look-at-planned-giving-donors/
LOCATION:Truluck’s\, 400 Colorado St.\, Austin\, TX\, 78701\, United States
CATEGORIES:2019 Monthly Luncheons
ATTACH;FMTTYPE=image/jpeg:https://cgpaustin.org/wp-content/uploads/2020/01/williams_sarah_cropped_low-res.jpg
END:VEVENT
END:VCALENDAR